BEGIN:VCALENDAR
VERSION:2.0
PRODID:-//Coeur de Terre Vineyard - ECPv6.15.17.1//NONSGML v1.0//EN
CALSCALE:GREGORIAN
METHOD:PUBLISH
X-ORIGINAL-URL:https://cdtvineyard.com
X-WR-CALDESC:Events for Coeur de Terre Vineyard
REFRESH-INTERVAL;VALUE=DURATION:PT1H
X-Robots-Tag:noindex
X-PUBLISHED-TTL:PT1H
BEGIN:VTIMEZONE
TZID:America/Los_Angeles
BEGIN:DAYLIGHT
TZOFFSETFROM:-0800
TZOFFSETTO:-0700
TZNAME:PDT
DTSTART:20170312T100000
END:DAYLIGHT
BEGIN:STANDARD
TZOFFSETFROM:-0700
TZOFFSETTO:-0800
TZNAME:PST
DTSTART:20171105T090000
END:STANDARD
BEGIN:DAYLIGHT
TZOFFSETFROM:-0800
TZOFFSETTO:-0700
TZNAME:PDT
DTSTART:20180311T100000
END:DAYLIGHT
BEGIN:STANDARD
TZOFFSETFROM:-0700
TZOFFSETTO:-0800
TZNAME:PST
DTSTART:20181104T090000
END:STANDARD
BEGIN:DAYLIGHT
TZOFFSETFROM:-0800
TZOFFSETTO:-0700
TZNAME:PDT
DTSTART:20190310T100000
END:DAYLIGHT
BEGIN:STANDARD
TZOFFSETFROM:-0700
TZOFFSETTO:-0800
TZNAME:PST
DTSTART:20191103T090000
END:STANDARD
END:VTIMEZONE
BEGIN:VEVENT
DTSTART;TZID=America/Los_Angeles:20180914T170000
DTEND;TZID=America/Los_Angeles:20180914T190000
DTSTAMP:20260423T044349
CREATED:20181024T045329Z
LAST-MODIFIED:20200305T055142Z
UID:10000110-1536944400-1536951600@cdtvineyard.com
SUMMARY:Live Music at Winery - Beautiful Tuesday
DESCRIPTION:Come see some of the most talented local teen musicians in the area.  Each member of this group is a multi-instrumentalist and they play Alt-Pop covers and originals.  They draw their inspiration from music from the 50’s to now and integrate a depth of material that is unusual for a band of this age.  Features Lisa and Scott’s daughter on keyboard\, guitar and vocals.
URL:https://cdtvineyard.com/event/live-music-at-winery-beautiful-tuesday/
LOCATION:OR
CATEGORIES:Events
END:VEVENT
END:VCALENDAR