BEGIN:VCALENDAR
VERSION:2.0
PRODID:-//Coeur de Terre Vineyard - ECPv6.15.17.1//NONSGML v1.0//EN
CALSCALE:GREGORIAN
METHOD:PUBLISH
X-WR-CALNAME:Coeur de Terre Vineyard
X-ORIGINAL-URL:https://cdtvineyard.com
X-WR-CALDESC:Events for Coeur de Terre Vineyard
REFRESH-INTERVAL;VALUE=DURATION:PT1H
X-Robots-Tag:noindex
X-PUBLISHED-TTL:PT1H
BEGIN:VTIMEZONE
TZID:America/Los_Angeles
BEGIN:DAYLIGHT
TZOFFSETFROM:-0800
TZOFFSETTO:-0700
TZNAME:PDT
DTSTART:20240310T100000
END:DAYLIGHT
BEGIN:STANDARD
TZOFFSETFROM:-0700
TZOFFSETTO:-0800
TZNAME:PST
DTSTART:20241103T090000
END:STANDARD
BEGIN:DAYLIGHT
TZOFFSETFROM:-0800
TZOFFSETTO:-0700
TZNAME:PDT
DTSTART:20250309T100000
END:DAYLIGHT
BEGIN:STANDARD
TZOFFSETFROM:-0700
TZOFFSETTO:-0800
TZNAME:PST
DTSTART:20251102T090000
END:STANDARD
BEGIN:DAYLIGHT
TZOFFSETFROM:-0800
TZOFFSETTO:-0700
TZNAME:PDT
DTSTART:20260308T100000
END:DAYLIGHT
BEGIN:STANDARD
TZOFFSETFROM:-0700
TZOFFSETTO:-0800
TZNAME:PST
DTSTART:20261101T090000
END:STANDARD
END:VTIMEZONE
BEGIN:VEVENT
DTSTART;TZID=America/Los_Angeles:20251122T100000
DTEND;TZID=America/Los_Angeles:20251122T170000
DTSTAMP:20260421T175256
CREATED:20251109T005521Z
LAST-MODIFIED:20251109T011124Z
UID:10000227-1763805600-1763830800@cdtvineyard.com
SUMMARY:Pre-Thanksgiving Mystery Magnum Saturday
DESCRIPTION:“Where have the three of you been hiding?!” Join us as we gather the weekend before Thanksgiving to pop the corks on some Mystery Magnums! Even winemaker Scott is not sure which Heritage Block is in the bottle! Feel free to make a reservation and join us Saturday\, November 22nd. The Tasting Room will be open from 10am -5pm. Reservations can be made HERE. We hope you will join us!
URL:https://cdtvineyard.com/event/pre-thanksgiving-mystery-magnum-saturday/
LOCATION:Coeur De Terre Vineyard\, 21000 SW Eagle Point Rd\, McMinnville\, OR\, United States
ATTACH;FMTTYPE=image/jpeg:https://cdtvineyard.com/wp-content/uploads/2025/11/Hidden-Magnums-Resized-scaled.jpg
GEO:45.177819;-123.329961
X-APPLE-STRUCTURED-LOCATION;VALUE=URI;X-ADDRESS=Coeur De Terre Vineyard 21000 SW Eagle Point Rd McMinnville OR United States;X-APPLE-RADIUS=500;X-TITLE=21000 SW Eagle Point Rd:geo:-123.329961,45.177819
END:VEVENT
END:VCALENDAR