BEGIN:VCALENDAR
VERSION:2.0
PRODID:-//Coeur de Terre Vineyard - ECPv6.15.17.1//NONSGML v1.0//EN
CALSCALE:GREGORIAN
METHOD:PUBLISH
X-WR-CALNAME:Coeur de Terre Vineyard
X-ORIGINAL-URL:https://cdtvineyard.com
X-WR-CALDESC:Events for Coeur de Terre Vineyard
REFRESH-INTERVAL;VALUE=DURATION:PT1H
X-Robots-Tag:noindex
X-PUBLISHED-TTL:PT1H
BEGIN:VTIMEZONE
TZID:America/Los_Angeles
BEGIN:DAYLIGHT
TZOFFSETFROM:-0800
TZOFFSETTO:-0700
TZNAME:PDT
DTSTART:20240310T100000
END:DAYLIGHT
BEGIN:STANDARD
TZOFFSETFROM:-0700
TZOFFSETTO:-0800
TZNAME:PST
DTSTART:20241103T090000
END:STANDARD
BEGIN:DAYLIGHT
TZOFFSETFROM:-0800
TZOFFSETTO:-0700
TZNAME:PDT
DTSTART:20250309T100000
END:DAYLIGHT
BEGIN:STANDARD
TZOFFSETFROM:-0700
TZOFFSETTO:-0800
TZNAME:PST
DTSTART:20251102T090000
END:STANDARD
BEGIN:DAYLIGHT
TZOFFSETFROM:-0800
TZOFFSETTO:-0700
TZNAME:PDT
DTSTART:20260308T100000
END:DAYLIGHT
BEGIN:STANDARD
TZOFFSETFROM:-0700
TZOFFSETTO:-0800
TZNAME:PST
DTSTART:20261101T090000
END:STANDARD
END:VTIMEZONE
BEGIN:VEVENT
DTSTART;TZID=America/Los_Angeles:20251128T100000
DTEND;TZID=America/Los_Angeles:20251130T170000
DTSTAMP:20260421T173249
CREATED:20251109T012825Z
LAST-MODIFIED:20251113T235225Z
UID:10000229-1764324000-1764522000@cdtvineyard.com
SUMMARY:Wine Country Thanksgiving at CdT
DESCRIPTION:Join us Friday\, November 28th thru Sunday\, November 30th and enjoy our delicious estate-grown\, organic wines. We will have all of the newly released 2023 Single Block Pinot Noirs open for your enjoyment\, along with dry Riesling\, Chardonnay\, Grüner Veltliner\, and Rustique Rosé\, if there’s any left(!!) Cheers!
URL:https://cdtvineyard.com/event/wine-country-thanksgiving-at-cdt/
LOCATION:Coeur De Terre Vineyard\, 21000 SW Eagle Point Rd\, McMinnville\, OR\, United States
ATTACH;FMTTYPE=image/jpeg:https://cdtvineyard.com/wp-content/uploads/2024/02/CDT-TasteOfEarth-42-scaled.jpg
GEO:45.177819;-123.329961
X-APPLE-STRUCTURED-LOCATION;VALUE=URI;X-ADDRESS=Coeur De Terre Vineyard 21000 SW Eagle Point Rd McMinnville OR United States;X-APPLE-RADIUS=500;X-TITLE=21000 SW Eagle Point Rd:geo:-123.329961,45.177819
END:VEVENT
END:VCALENDAR