BEGIN:VCALENDAR
VERSION:2.0
PRODID:-//Coeur de Terre Vineyard - ECPv6.15.17.1//NONSGML v1.0//EN
CALSCALE:GREGORIAN
METHOD:PUBLISH
X-WR-CALNAME:Coeur de Terre Vineyard
X-ORIGINAL-URL:https://cdtvineyard.com
X-WR-CALDESC:Events for Coeur de Terre Vineyard
REFRESH-INTERVAL;VALUE=DURATION:PT1H
X-Robots-Tag:noindex
X-PUBLISHED-TTL:PT1H
BEGIN:VTIMEZONE
TZID:America/Los_Angeles
BEGIN:DAYLIGHT
TZOFFSETFROM:-0800
TZOFFSETTO:-0700
TZNAME:PDT
DTSTART:20240310T100000
END:DAYLIGHT
BEGIN:STANDARD
TZOFFSETFROM:-0700
TZOFFSETTO:-0800
TZNAME:PST
DTSTART:20241103T090000
END:STANDARD
BEGIN:DAYLIGHT
TZOFFSETFROM:-0800
TZOFFSETTO:-0700
TZNAME:PDT
DTSTART:20250309T100000
END:DAYLIGHT
BEGIN:STANDARD
TZOFFSETFROM:-0700
TZOFFSETTO:-0800
TZNAME:PST
DTSTART:20251102T090000
END:STANDARD
BEGIN:DAYLIGHT
TZOFFSETFROM:-0800
TZOFFSETTO:-0700
TZNAME:PDT
DTSTART:20260308T100000
END:DAYLIGHT
BEGIN:STANDARD
TZOFFSETFROM:-0700
TZOFFSETTO:-0800
TZNAME:PST
DTSTART:20261101T090000
END:STANDARD
BEGIN:DAYLIGHT
TZOFFSETFROM:-0800
TZOFFSETTO:-0700
TZNAME:PDT
DTSTART:20270314T100000
END:DAYLIGHT
BEGIN:STANDARD
TZOFFSETFROM:-0700
TZOFFSETTO:-0800
TZNAME:PST
DTSTART:20271107T090000
END:STANDARD
END:VTIMEZONE
BEGIN:VEVENT
DTSTART;VALUE=DATE:20251223
DTEND;VALUE=DATE:20260102
DTSTAMP:20260421T152955
CREATED:20251109T011546Z
LAST-MODIFIED:20251109T012216Z
UID:10000228-1766448000-1767311999@cdtvineyard.com
SUMMARY:Holiday Closure
DESCRIPTION:We will be closed for the Holidays beginning Tuesday\, December 23rd\, 2025 through Thursday\, January 1st\, 2026. We will re-open at 10am on Friday\, January 2nd\, 2026! Cheers! \n\n\n\n\n\n\n\n\n\n 
URL:https://cdtvineyard.com/event/closed-for-the-holidays-12-23-25-01-01-26/
LOCATION:Coeur De Terre Vineyard\, 21000 SW Eagle Point Rd\, McMinnville\, OR\, United States
CATEGORIES:Events
ATTACH;FMTTYPE=image/png:https://cdtvineyard.com/wp-content/uploads/2024/12/closed-for-the-holidays-sign.png
GEO:45.177819;-123.329961
X-APPLE-STRUCTURED-LOCATION;VALUE=URI;X-ADDRESS=Coeur De Terre Vineyard 21000 SW Eagle Point Rd McMinnville OR United States;X-APPLE-RADIUS=500;X-TITLE=21000 SW Eagle Point Rd:geo:-123.329961,45.177819
END:VEVENT
END:VCALENDAR