BEGIN:VCALENDAR
VERSION:2.0
PRODID:-//Coeur de Terre Vineyard - ECPv6.15.17.1//NONSGML v1.0//EN
CALSCALE:GREGORIAN
METHOD:PUBLISH
X-ORIGINAL-URL:https://cdtvineyard.com
X-WR-CALDESC:Events for Coeur de Terre Vineyard
REFRESH-INTERVAL;VALUE=DURATION:PT1H
X-Robots-Tag:noindex
X-PUBLISHED-TTL:PT1H
BEGIN:VTIMEZONE
TZID:America/Los_Angeles
BEGIN:DAYLIGHT
TZOFFSETFROM:-0800
TZOFFSETTO:-0700
TZNAME:PDT
DTSTART:20230312T100000
END:DAYLIGHT
BEGIN:STANDARD
TZOFFSETFROM:-0700
TZOFFSETTO:-0800
TZNAME:PST
DTSTART:20231105T090000
END:STANDARD
BEGIN:DAYLIGHT
TZOFFSETFROM:-0800
TZOFFSETTO:-0700
TZNAME:PDT
DTSTART:20240310T100000
END:DAYLIGHT
BEGIN:STANDARD
TZOFFSETFROM:-0700
TZOFFSETTO:-0800
TZNAME:PST
DTSTART:20241103T090000
END:STANDARD
BEGIN:DAYLIGHT
TZOFFSETFROM:-0800
TZOFFSETTO:-0700
TZNAME:PDT
DTSTART:20250309T100000
END:DAYLIGHT
BEGIN:STANDARD
TZOFFSETFROM:-0700
TZOFFSETTO:-0800
TZNAME:PST
DTSTART:20251102T090000
END:STANDARD
END:VTIMEZONE
BEGIN:VEVENT
DTSTART;TZID=America/Los_Angeles:20241103T130000
DTEND;TZID=America/Los_Angeles:20241103T160000
DTSTAMP:20260422T060646
CREATED:20240921T194317Z
LAST-MODIFIED:20241103T234313Z
UID:10000213-1730638800-1730649600@cdtvineyard.com
SUMMARY:Oak and Vine Autumn Soirée
DESCRIPTION:On Sunday\, November 3rd the Oak & Vine Society Autumn Soirée will take place in the incredible event space at Abbey Road Farm! From 1pm-4pm we’ll join together to share the bond of wine alongside 14 other amazing wineries\, all sharing samples of our proudest work. Enjoy catered hors d’oeuvres from Biscuit & Pickles Catering while listening live music! There will be raffles with prizes valued $1\,000+ and so much fun taking place on a beautiful vineyard. Coeur de Terre wine club members can reserve TWO FREE TICKETS PER MEMBERSHIP – use discount code CLUBSHARE during checkout. Additional tickets and tickets to the public are $25 each. Feel free to reach out to wine@cdtvineyard.com with questions. \nTickets:  https://www.acorntooakwine.com/reservation#/type/oak-vine-society-autumn-soir-e \n\n\n\n\n\n\n\n\n\n 
URL:https://cdtvineyard.com/event/oak-and-vine-autumn-soiree/
LOCATION:Abbey Road Farm\, 10280 NE Oak Springs Farm Rd\, Carlton\, OR\, United States
CATEGORIES:Events
ATTACH;FMTTYPE=image/jpeg:https://cdtvineyard.com/wp-content/uploads/2024/09/Acorn-to-Oak-Event.jpg
GEO:45.294308;-123.103356
X-APPLE-STRUCTURED-LOCATION;VALUE=URI;X-ADDRESS=Abbey Road Farm 10280 NE Oak Springs Farm Rd Carlton OR United States;X-APPLE-RADIUS=500;X-TITLE=10280 NE Oak Springs Farm Rd:geo:-123.103356,45.294308
END:VEVENT
END:VCALENDAR