BEGIN:VCALENDAR
VERSION:2.0
PRODID:-//Coeur de Terre Vineyard - ECPv6.15.17.1//NONSGML v1.0//EN
CALSCALE:GREGORIAN
METHOD:PUBLISH
X-ORIGINAL-URL:https://cdtvineyard.com
X-WR-CALDESC:Events for Coeur de Terre Vineyard
REFRESH-INTERVAL;VALUE=DURATION:PT1H
X-Robots-Tag:noindex
X-PUBLISHED-TTL:PT1H
BEGIN:VTIMEZONE
TZID:America/Los_Angeles
BEGIN:DAYLIGHT
TZOFFSETFROM:-0800
TZOFFSETTO:-0700
TZNAME:PDT
DTSTART:20170312T100000
END:DAYLIGHT
BEGIN:STANDARD
TZOFFSETFROM:-0700
TZOFFSETTO:-0800
TZNAME:PST
DTSTART:20171105T090000
END:STANDARD
BEGIN:DAYLIGHT
TZOFFSETFROM:-0800
TZOFFSETTO:-0700
TZNAME:PDT
DTSTART:20180311T100000
END:DAYLIGHT
BEGIN:STANDARD
TZOFFSETFROM:-0700
TZOFFSETTO:-0800
TZNAME:PST
DTSTART:20181104T090000
END:STANDARD
BEGIN:DAYLIGHT
TZOFFSETFROM:-0800
TZOFFSETTO:-0700
TZNAME:PDT
DTSTART:20190310T100000
END:DAYLIGHT
BEGIN:STANDARD
TZOFFSETFROM:-0700
TZOFFSETTO:-0800
TZNAME:PST
DTSTART:20191103T090000
END:STANDARD
BEGIN:DAYLIGHT
TZOFFSETFROM:-0800
TZOFFSETTO:-0700
TZNAME:PDT
DTSTART:20200308T100000
END:DAYLIGHT
BEGIN:STANDARD
TZOFFSETFROM:-0700
TZOFFSETTO:-0800
TZNAME:PST
DTSTART:20201101T090000
END:STANDARD
BEGIN:DAYLIGHT
TZOFFSETFROM:-0800
TZOFFSETTO:-0700
TZNAME:PDT
DTSTART:20210314T100000
END:DAYLIGHT
BEGIN:STANDARD
TZOFFSETFROM:-0700
TZOFFSETTO:-0800
TZNAME:PST
DTSTART:20211107T090000
END:STANDARD
BEGIN:DAYLIGHT
TZOFFSETFROM:-0800
TZOFFSETTO:-0700
TZNAME:PDT
DTSTART:20220313T100000
END:DAYLIGHT
BEGIN:STANDARD
TZOFFSETFROM:-0700
TZOFFSETTO:-0800
TZNAME:PST
DTSTART:20221106T090000
END:STANDARD
BEGIN:DAYLIGHT
TZOFFSETFROM:-0800
TZOFFSETTO:-0700
TZNAME:PDT
DTSTART:20230312T100000
END:DAYLIGHT
BEGIN:STANDARD
TZOFFSETFROM:-0700
TZOFFSETTO:-0800
TZNAME:PST
DTSTART:20231105T090000
END:STANDARD
BEGIN:DAYLIGHT
TZOFFSETFROM:-0800
TZOFFSETTO:-0700
TZNAME:PDT
DTSTART:20240310T100000
END:DAYLIGHT
BEGIN:STANDARD
TZOFFSETFROM:-0700
TZOFFSETTO:-0800
TZNAME:PST
DTSTART:20241103T090000
END:STANDARD
END:VTIMEZONE
BEGIN:VEVENT
DTSTART;TZID=America/Los_Angeles:20230827T120000
DTEND;TZID=America/Los_Angeles:20230827T180000
DTSTAMP:20260424T184048
CREATED:20230515T185815Z
LAST-MODIFIED:20230828T001313Z
UID:10000184-1693137600-1693159200@cdtvineyard.com
SUMMARY:Magical Mystery Music Night
DESCRIPTION:Beatles Night At The WineryAugust 27th 12:00PM – 6:00PM \nThis is a truly unique experience and we are fortunate to host this at Coeur de Terre Vineyard.  This is our 5th Annual Beatles Night and we are lucky to have 11 bands\, all playing unique Beatles songs! What more needs to be said. This event oversold the last few times it was held\, and due to crowd restrictions\, we have to greatly limit the tickets. We will have a local food vendor onsite to enjoy with your favorite CdT wine or Heater Allen beer. Tickets are only $10 with all proceeds going to Willamette Cares charity.  We are offering this to our club members for no charge and includes VIP seating and parking.  Please secure your spot soon so you don’t miss out. \n\n\n\n\n\n\n\n\n\n 
URL:https://cdtvineyard.com/event/magical-mystery-music-night/
LOCATION:Coeur De Terre Vineyard\, 21000 SW Eagle Point Rd\, McMinnville\, OR 97128\, USA\, 21000 SW Eagle Point Road\, McMinnville\, OR\, 97128\, United States
CATEGORIES:Events
ATTACH;FMTTYPE=image/jpeg:https://cdtvineyard.com/wp-content/uploads/2020/03/Beatles-night-logo2-Recovered-scaled.jpg
GEO:45.17127;-123.31461
X-APPLE-STRUCTURED-LOCATION;VALUE=URI;X-ADDRESS=Coeur De Terre Vineyard 21000 SW Eagle Point Rd McMinnville OR 97128 USA 21000 SW Eagle Point Road McMinnville OR 97128 United States;X-APPLE-RADIUS=500;X-TITLE=21000 SW Eagle Point Road:geo:-123.31461,45.17127
END:VEVENT
BEGIN:VEVENT
DTSTART;TZID=America/Los_Angeles:20230819T100000
DTEND;TZID=America/Los_Angeles:20230819T150000
DTSTAMP:20260424T184048
CREATED:20230515T185815Z
LAST-MODIFIED:20230819T215839Z
UID:10000183-1692439200-1692457200@cdtvineyard.com
SUMMARY:Founder's Club Event - Open Only to Founder's Club Members
DESCRIPTION:
URL:https://cdtvineyard.com/event/founders-club-event-open-only-to-founders-club-members/
LOCATION:Coeur De Terre Vineyard\, 21000 SW Eagle Point Rd\, McMinnville\, OR 97128\, USA\, 21000 SW Eagle Point Road\, McMinnville\, OR\, 97128\, United States
GEO:45.17127;-123.31461
X-APPLE-STRUCTURED-LOCATION;VALUE=URI;X-ADDRESS=Coeur De Terre Vineyard 21000 SW Eagle Point Rd McMinnville OR 97128 USA 21000 SW Eagle Point Road McMinnville OR 97128 United States;X-APPLE-RADIUS=500;X-TITLE=21000 SW Eagle Point Road:geo:-123.31461,45.17127
END:VEVENT
BEGIN:VEVENT
DTSTART;TZID=America/Los_Angeles:20230818T173000
DTEND;TZID=America/Los_Angeles:20230818T203000
DTSTAMP:20260424T184048
CREATED:20230515T185815Z
LAST-MODIFIED:20230819T032845Z
UID:10000182-1692379800-1692390600@cdtvineyard.com
SUMMARY:Skybound Blue Concert
DESCRIPTION:Skybound Blue  Information\n\n\n\n\n\n\n\n\n\n\n\n\n\n\n\n\n\n\n\n\n\n\n\nWe look forward to having you at the winery for our most favorite band\, Skybound Blue.  To make this concert great for everyone in attendance\, please observe these following rules: \n-Please arrive no earlier than 5:30PM on Friday\, August 18th as the tasting room is open and there may be guests that need to leave.  Your email that you signed up for is your ticket and there will be someone at the gate to great you and take tickets. \n-Please pay attention to attendents for parking as we will need to ensure that we make the most of the parking areas we have. \n-This is an outdoor concert so please dress accordingly and bring a hat to block the sun. Small\, low profile chairs (approximately 8″ from ground for seat height and not to exceed 32″) or beach towels are allowed.  Please do not bring standard outdoor chairs as this will block other patron’s view.  If you require a regular chair\, we can accomodate you in an area at the back of the crowd. \n-Club members will have an exclusive VIP parking area and seating area.  Please let attendents know you are a club member.   \n-Food will be provided by Biscuits and Pickles\, so please do not bring your own food.  Wine\, beer and soft drinks will be available for purchase and water will be provided at no charge for those with their own bottles.   \n-Please do not bring pets \n\n\n\n\n\n\n\n\n\n\n\n\n\n\n\n\n\n\n\n\n\n\n\n\n\n\n\n\n\n\n\n\n 
URL:https://cdtvineyard.com/event/skybound-blue-concert-3/
LOCATION:Coeur De Terre Vineyard\, 21000 SW Eagle Point Rd\, McMinnville\, OR 97128\, USA\, 21000 SW Eagle Point Road\, McMinnville\, OR\, 97128\, United States
CATEGORIES:Events
ATTACH;FMTTYPE=image/jpeg:https://cdtvineyard.com/wp-content/uploads/2020/03/Skybound-blue-1024x683_Moment-e1614795661704.jpg
GEO:45.17127;-123.31461
X-APPLE-STRUCTURED-LOCATION;VALUE=URI;X-ADDRESS=Coeur De Terre Vineyard 21000 SW Eagle Point Rd McMinnville OR 97128 USA 21000 SW Eagle Point Road McMinnville OR 97128 United States;X-APPLE-RADIUS=500;X-TITLE=21000 SW Eagle Point Road:geo:-123.31461,45.17127
END:VEVENT
BEGIN:VEVENT
DTSTART;TZID=America/Los_Angeles:20230311T120000
DTEND;TZID=America/Los_Angeles:20230311T140000
DTSTAMP:20260424T184048
CREATED:20230123T011338Z
LAST-MODIFIED:20230306T082814Z
UID:10000177-1678536000-1678543200@cdtvineyard.com
SUMMARY:Comparative Syrah Event
DESCRIPTION:Join us at the Vineyard for a presentation and tasting comparing our Estate Syrah with the great Syrahs of the Cote Rotie AOC in France. \n\n\n\n\n\n\n\n\n\n 
URL:https://cdtvineyard.com/event/comparative-syrah-event/
LOCATION:Coeur De Terre Vineyard\, 21000 SW Eagle Point Rd\, McMinnville\, OR 97128\, USA\, 21000 SW Eagle Point Road\, McMinnville\, OR\, 97128\, United States
ATTACH;FMTTYPE=image/png:https://cdtvineyard.com/wp-content/uploads/2023/01/syraheventmac5.png
GEO:45.17127;-123.31461
X-APPLE-STRUCTURED-LOCATION;VALUE=URI;X-ADDRESS=Coeur De Terre Vineyard 21000 SW Eagle Point Rd McMinnville OR 97128 USA 21000 SW Eagle Point Road McMinnville OR 97128 United States;X-APPLE-RADIUS=500;X-TITLE=21000 SW Eagle Point Road:geo:-123.31461,45.17127
END:VEVENT
BEGIN:VEVENT
DTSTART;TZID=America/Los_Angeles:20230307T110000
DTEND;TZID=America/Los_Angeles:20230307T190000
DTSTAMP:20260424T184048
CREATED:20230123T011338Z
LAST-MODIFIED:20230306T082814Z
UID:10000179-1678186800-1678215600@cdtvineyard.com
SUMMARY:Industry Open House March 6 & 7
DESCRIPTION:Our Tasting Room will be closed to the General Public as we welcome our Friends from the Wine Industry as well as our Neighbors and Communtiy Members we are lucky to call partners. RSVP on our website. \n\n\n\n\n\n\n\n\n\n 
URL:https://cdtvineyard.com/event/industry-open-house-2/
LOCATION:Coeur De Terre Vineyard\, 21000 SW Eagle Point Rd\, McMinnville\, OR 97128\, USA\, 21000 SW Eagle Point Road\, McMinnville\, OR\, 97128\, United States
ATTACH;FMTTYPE=image/png:https://cdtvineyard.com/wp-content/uploads/2023/01/open.png
GEO:45.17127;-123.31461
X-APPLE-STRUCTURED-LOCATION;VALUE=URI;X-ADDRESS=Coeur De Terre Vineyard 21000 SW Eagle Point Rd McMinnville OR 97128 USA 21000 SW Eagle Point Road McMinnville OR 97128 United States;X-APPLE-RADIUS=500;X-TITLE=21000 SW Eagle Point Road:geo:-123.31461,45.17127
END:VEVENT
BEGIN:VEVENT
DTSTART;TZID=America/Los_Angeles:20220905T143000
DTEND;TZID=America/Los_Angeles:20220905T193000
DTSTAMP:20260424T184048
CREATED:20220311T004447Z
LAST-MODIFIED:20220906T022901Z
UID:10000099-1662388200-1662406200@cdtvineyard.com
SUMMARY:Beatles Night - 10 Bands\, All Beatles.  What more can be said.
DESCRIPTION:This is a truly unique experience and we are fortunate to host this at Coeur de Terre Vineyard.  This is our 4th Annual Beatles Night and we are lucky to have10 bands\, all playing unique Beatles songs! What more needs to be said. This event oversold the last time it was held\, and due to crowd restrictions\, we have to greatly limit the tickets. Tickets are only $10 with all proceeds going to Willamette Cares charity. \nWe are offering this to our club members for no charge and includes VIP seating.  Please secure your spot soon so you don’t miss out. \n 
URL:https://cdtvineyard.com/event/beatles-night-3/
LOCATION:Coeur De Terre Vineyard\, 21000 SW Eagle Point Rd\, McMinnville\, OR 97128\, USA\, 21000 SW Eagle Point Road\, McMinnville\, OR\, 97128\, United States
CATEGORIES:Events
ATTACH;FMTTYPE=image/jpeg:https://cdtvineyard.com/wp-content/uploads/2020/03/Beatles-night-logo2-Recovered-scaled.jpg
GEO:45.17127;-123.31461
X-APPLE-STRUCTURED-LOCATION;VALUE=URI;X-ADDRESS=Coeur De Terre Vineyard 21000 SW Eagle Point Rd McMinnville OR 97128 USA 21000 SW Eagle Point Road McMinnville OR 97128 United States;X-APPLE-RADIUS=500;X-TITLE=21000 SW Eagle Point Road:geo:-123.31461,45.17127
END:VEVENT
BEGIN:VEVENT
DTSTART;TZID=America/Los_Angeles:20220806T180000
DTEND;TZID=America/Los_Angeles:20220806T210000
DTSTAMP:20260424T184048
CREATED:20220311T004447Z
LAST-MODIFIED:20220807T034315Z
UID:10000168-1659808800-1659819600@cdtvineyard.com
SUMMARY:Skybound Blue Concert
DESCRIPTION:Skybound Blue is harmony-driven\, dig-deep-and-tell-the-story-in-your-bones Americana. Fronted by married duo Matt and Jenny Behnke\, Skybound Blue is magic on stage – entertaining\, funny\, and down to earth. Their songwriting and musicianship hold their own in the vein of Americana greats like Shovels and Rope\, Brandi Carlile\, and Patty Griffin. \n\n\n\n\n\n\n\n\n\n 
URL:https://cdtvineyard.com/event/skybound-blue-concert/
LOCATION:Coeur De Terre Vineyard\, 21000 SW Eagle Point Rd\, McMinnville\, OR 97128\, USA\, 21000 SW Eagle Point Road\, McMinnville\, OR\, 97128\, United States
ATTACH;FMTTYPE=image/jpeg:https://cdtvineyard.com/wp-content/uploads/2020/03/Skybound-blue-e1692368244136.jpg
GEO:45.17127;-123.31461
X-APPLE-STRUCTURED-LOCATION;VALUE=URI;X-ADDRESS=Coeur De Terre Vineyard 21000 SW Eagle Point Rd McMinnville OR 97128 USA 21000 SW Eagle Point Road McMinnville OR 97128 United States;X-APPLE-RADIUS=500;X-TITLE=21000 SW Eagle Point Road:geo:-123.31461,45.17127
END:VEVENT
BEGIN:VEVENT
DTSTART;TZID=America/Los_Angeles:20200829T170000
DTEND;TZID=America/Los_Angeles:20200829T200000
DTSTAMP:20260424T184048
CREATED:20200313T032925Z
LAST-MODIFIED:20200818T213722Z
UID:10000157-1598720400-1598731200@cdtvineyard.com
SUMMARY:Skybound Blue
DESCRIPTION:We can’t think of a more appropriate way to restart our music series than to have our favorite band and some of our favorite people spend a beautiful afternoon with us at the vineyard.  We are taking all precautions around COVID\, so we are limiting the attendance to no more than 50 people.  The $10 entry fee gets you a special logo wine glass with a choice of Pinot Gris or Pinot Noir along with it.  If you are a club member\, there is no charge and you just need to let us know you are coming to reserve your spot (another reason to join the club!). \nPlease bring a blanket or low chair to sit on\, a mask to wear when moving around and some snacks to enjoy along with a glass of wine or 2 from us.  We look forward to seeing you here and get your tickets before they are gone.
URL:https://cdtvineyard.com/event/skybound-blue/
LOCATION:Coeur De Terre Vineyard\, 21000 SW Eagle Point Rd\, McMinnville\, OR 97128\, USA\, 21000 SW Eagle Point Road\, McMinnville\, OR\, 97128\, United States
CATEGORIES:Events
ATTACH;FMTTYPE=image/jpeg:https://cdtvineyard.com/wp-content/uploads/2020/03/Skybound-blue-1024x683_Moment-e1614795661704.jpg
GEO:45.17127;-123.31461
X-APPLE-STRUCTURED-LOCATION;VALUE=URI;X-ADDRESS=Coeur De Terre Vineyard 21000 SW Eagle Point Rd McMinnville OR 97128 USA 21000 SW Eagle Point Road McMinnville OR 97128 United States;X-APPLE-RADIUS=500;X-TITLE=21000 SW Eagle Point Road:geo:-123.31461,45.17127
END:VEVENT
BEGIN:VEVENT
DTSTART;TZID=America/Los_Angeles:20200215T160000
DTEND;TZID=America/Los_Angeles:20200215T190000
DTSTAMP:20260424T184048
CREATED:20200211T214834Z
LAST-MODIFIED:20200305T055201Z
UID:10000143-1581782400-1581793200@cdtvineyard.com
SUMMARY:Willamette Valley Songwriter's Showcase
DESCRIPTION:Willamette Valley Songwriters Showcase is an event to celebrate the creativity and uniqueness of musicians with original songs. In an effort to recognize musicians with original work\, music-aficionado Florian Raqueño established a collaborative event where several musicians can share their creativity and stories behind their songs. She recruited friend and music event guru Shannon Dempsey to help make the vision a reality. Together\, they hope to connect the performers and audiences through lyrics and experiences. It is\, after all\, a community. \nSix skilled musicians spanning multiple genres will perform at this kick-off.  There will be music\, wine\, food and a raffle. \nIn conjunction\, we are fundraising for Ethos. Ethos is a 501(c)(3) nonprofit that provides music lessons\, group classes\, camps\, multicultural performances and workshops to more than 7\,000 students across Oregon each year. 
URL:https://cdtvineyard.com/event/willamette-valley-songwriters-showcase/
LOCATION:Coeur De Terre Vineyard\, 21000 SW Eagle Point Rd\, McMinnville\, OR 97128\, USA\, 21000 SW Eagle Point Road\, McMinnville\, OR\, 97128\, United States
ATTACH;FMTTYPE=image/jpeg:https://cdtvineyard.com/wp-content/uploads/2020/02/WVShowcase.jpg
GEO:45.17127;-123.31461
X-APPLE-STRUCTURED-LOCATION;VALUE=URI;X-ADDRESS=Coeur De Terre Vineyard 21000 SW Eagle Point Rd McMinnville OR 97128 USA 21000 SW Eagle Point Road McMinnville OR 97128 United States;X-APPLE-RADIUS=500;X-TITLE=21000 SW Eagle Point Road:geo:-123.31461,45.17127
END:VEVENT
BEGIN:VEVENT
DTSTART;TZID=America/Los_Angeles:20190803T170000
DTEND;TZID=America/Los_Angeles:20190803T193000
DTSTAMP:20260424T184048
CREATED:20190819T172951Z
LAST-MODIFIED:20200305T055154Z
UID:10000131-1564851600-1564860600@cdtvineyard.com
SUMMARY:Music Series: Skybound Blue
DESCRIPTION:Skybound Blue!  Enough Said!  This is the fourth year in a row that our dear friends are performing their local Americana awesomeness at our vineyard\, and it is not to be missed!  Enjoy this long summer night with a local food truck and great CdT wine. We hope to see you here! We request that you please leave all pets and outside food/drink at home.  Thank you.Cost: No Charge
URL:https://cdtvineyard.com/event/music-series-skybound-blue/
LOCATION:Coeur De Terre Vineyard\, 21000 SW Eagle Point Rd\, McMinnville\, OR 97128\, USA\, 21000 SW Eagle Point Road\, McMinnville\, OR\, 97128\, United States
CATEGORIES:Events
GEO:45.17127;-123.31461
X-APPLE-STRUCTURED-LOCATION;VALUE=URI;X-ADDRESS=Coeur De Terre Vineyard 21000 SW Eagle Point Rd McMinnville OR 97128 USA 21000 SW Eagle Point Road McMinnville OR 97128 United States;X-APPLE-RADIUS=500;X-TITLE=21000 SW Eagle Point Road:geo:-123.31461,45.17127
END:VEVENT
BEGIN:VEVENT
DTSTART;TZID=America/Los_Angeles:20190713T153000
DTEND;TZID=America/Los_Angeles:20190713T200000
DTSTAMP:20260424T184048
CREATED:20190819T172951Z
LAST-MODIFIED:20200305T055152Z
UID:10000128-1563031800-1563048000@cdtvineyard.com
SUMMARY:2nd Annual Beatles Night
DESCRIPTION:We are kicking off our summer music series this year with our 2nd annual Beatles Night!  Join us in celebrating the timeless classics of The Beatles with a variety of local musicians with no repeats! Bring a chair and relax with delicious fare from local food trucks with great CdT wine\, local brews\, and non-alcoholic beverages. We look forward to seeing you here! \nWe request that you\, please leave your pets and outside food/drink at home. Thank You
URL:https://cdtvineyard.com/event/2nd-annual-beatles-night/
LOCATION:Coeur De Terre Vineyard\, 21000 SW Eagle Point Rd\, McMinnville\, OR 97128\, USA\, 21000 SW Eagle Point Road\, McMinnville\, OR\, 97128\, United States
CATEGORIES:Events
GEO:45.17127;-123.31461
X-APPLE-STRUCTURED-LOCATION;VALUE=URI;X-ADDRESS=Coeur De Terre Vineyard 21000 SW Eagle Point Rd McMinnville OR 97128 USA 21000 SW Eagle Point Road McMinnville OR 97128 United States;X-APPLE-RADIUS=500;X-TITLE=21000 SW Eagle Point Road:geo:-123.31461,45.17127
END:VEVENT
BEGIN:VEVENT
DTSTART;VALUE=DATE:20190615
DTEND;VALUE=DATE:20190617
DTSTAMP:20260424T184048
CREATED:20190819T172951Z
LAST-MODIFIED:20200305T055151Z
UID:10000126-1560556800-1560729599@cdtvineyard.com
SUMMARY:Father's Day- Dad's Taste Free!
DESCRIPTION:Leave the kids at home or bring them along- All Dads’s taste free for the weekend!
URL:https://cdtvineyard.com/event/fathers-day-dads-taste-free/
LOCATION:Coeur De Terre Vineyard\, 21000 SW Eagle Point Rd\, McMinnville\, OR 97128\, USA\, 21000 SW Eagle Point Road\, McMinnville\, OR\, 97128\, United States
CATEGORIES:Events
GEO:45.17127;-123.31461
X-APPLE-STRUCTURED-LOCATION;VALUE=URI;X-ADDRESS=Coeur De Terre Vineyard 21000 SW Eagle Point Rd McMinnville OR 97128 USA 21000 SW Eagle Point Road McMinnville OR 97128 United States;X-APPLE-RADIUS=500;X-TITLE=21000 SW Eagle Point Road:geo:-123.31461,45.17127
END:VEVENT
BEGIN:VEVENT
DTSTART;VALUE=DATE:20190525
DTEND;VALUE=DATE:20190528
DTSTAMP:20260424T184048
CREATED:20190819T172951Z
LAST-MODIFIED:20200305T055150Z
UID:10000125-1558742400-1559001599@cdtvineyard.com
SUMMARY:Memorial Day Weekend
DESCRIPTION:Celebrate the long weekend at Coeur de Terre with our newly released ‘18 Rustique Rosé\, ‘18 Pinot Gris\, and our estate Pinot Noirs\, all paired with delicious local fare. For this weekend\, we honor our Veterans and celebrate recent 2019 graduates (21+) with complimentary tastings. 20% of our profits will be donated to the Veterans & Families Resource Center of Oregon.  We hope you’ll spend the day at Coeur de Terre!\nCost: Club Members Complimentary. General Public: $20 per tasting
URL:https://cdtvineyard.com/event/memorial-day-weekend/
LOCATION:Coeur De Terre Vineyard\, 21000 SW Eagle Point Rd\, McMinnville\, OR 97128\, USA\, 21000 SW Eagle Point Road\, McMinnville\, OR\, 97128\, United States
CATEGORIES:Events
GEO:45.17127;-123.31461
X-APPLE-STRUCTURED-LOCATION;VALUE=URI;X-ADDRESS=Coeur De Terre Vineyard 21000 SW Eagle Point Rd McMinnville OR 97128 USA 21000 SW Eagle Point Road McMinnville OR 97128 United States;X-APPLE-RADIUS=500;X-TITLE=21000 SW Eagle Point Road:geo:-123.31461,45.17127
END:VEVENT
BEGIN:VEVENT
DTSTART;VALUE=DATE:20190518
DTEND;VALUE=DATE:20190520
DTSTAMP:20260424T184048
CREATED:20190819T172951Z
LAST-MODIFIED:20200305T055150Z
UID:10000124-1558137600-1558310399@cdtvineyard.com
SUMMARY:Pre-Memorial Day Weekend
DESCRIPTION:Start your celebration of Spring with a vertical tasting of our stunning cool vintages along with our new Spring releases. Owner and Winemaker Scott Neal has handpicked a selection of ‘07\, ‘11\, and ‘13 Héritage Reserve Pinot Noirs to share as we welcome warmer weather. Relax in the scenic McMinnville Foothills and share this last opportunity to enjoy the celebrated ‘07 vintage at its peak! We hope to see you here!\nCost: Complimentary for Club Members. General Public: $20 per tasting
URL:https://cdtvineyard.com/event/pre-memorial-day-weekend/
LOCATION:Coeur De Terre Vineyard\, 21000 SW Eagle Point Rd\, McMinnville\, OR 97128\, USA\, 21000 SW Eagle Point Road\, McMinnville\, OR\, 97128\, United States
CATEGORIES:Events
GEO:45.17127;-123.31461
X-APPLE-STRUCTURED-LOCATION;VALUE=URI;X-ADDRESS=Coeur De Terre Vineyard 21000 SW Eagle Point Rd McMinnville OR 97128 USA 21000 SW Eagle Point Road McMinnville OR 97128 United States;X-APPLE-RADIUS=500;X-TITLE=21000 SW Eagle Point Road:geo:-123.31461,45.17127
END:VEVENT
BEGIN:VEVENT
DTSTART;VALUE=DATE:20190511
DTEND;VALUE=DATE:20190513
DTSTAMP:20260424T184048
CREATED:20190819T172951Z
LAST-MODIFIED:20200305T055148Z
UID:10000121-1557532800-1557705599@cdtvineyard.com
SUMMARY:Mother's Day- Mom's Taste Free!
DESCRIPTION:Spend the day away from the kids or bring them along- All Moms’s taste free for the weekend!
URL:https://cdtvineyard.com/event/mothers-day-moms-taste-free/
LOCATION:Coeur De Terre Vineyard\, 21000 SW Eagle Point Rd\, McMinnville\, OR 97128\, USA\, 21000 SW Eagle Point Road\, McMinnville\, OR\, 97128\, United States
CATEGORIES:Events
GEO:45.17127;-123.31461
X-APPLE-STRUCTURED-LOCATION;VALUE=URI;X-ADDRESS=Coeur De Terre Vineyard 21000 SW Eagle Point Rd McMinnville OR 97128 USA 21000 SW Eagle Point Road McMinnville OR 97128 United States;X-APPLE-RADIUS=500;X-TITLE=21000 SW Eagle Point Road:geo:-123.31461,45.17127
END:VEVENT
BEGIN:VEVENT
DTSTART;TZID=America/Los_Angeles:20190504T110000
DTEND;TZID=America/Los_Angeles:20190504T133000
DTSTAMP:20260424T184048
CREATED:20190819T172951Z
LAST-MODIFIED:20200305T055147Z
UID:10000120-1556967600-1556976600@cdtvineyard.com
SUMMARY:Earth Day: Diving into CdT Dirt SOLD OUT
DESCRIPTION:We invite you to get your hands dirty and experience what makes our Pinot Noir so unique. Get your hands and nose into the soils where our wines are grown by participating in this immersive\, sensory tasting of our four iconic block designate Pinot Noirs. Join us in celebrating the release of our ‘16 block designates and enjoy this rare opportunity to taste their older matching siblings from the ‘11 vintage. Take this educational dive into the soil with us on May 4th from 11-1:30 pm.\nCost: Complimentary for Club Members  General Public: $35
URL:https://cdtvineyard.com/event/earth-day-diving-into-cdt-dirt-sold-out/
LOCATION:Coeur De Terre Vineyard\, 21000 SW Eagle Point Rd\, McMinnville\, OR 97128\, USA\, 21000 SW Eagle Point Road\, McMinnville\, OR\, 97128\, United States
CATEGORIES:Events
GEO:45.17127;-123.31461
X-APPLE-STRUCTURED-LOCATION;VALUE=URI;X-ADDRESS=Coeur De Terre Vineyard 21000 SW Eagle Point Rd McMinnville OR 97128 USA 21000 SW Eagle Point Road McMinnville OR 97128 United States;X-APPLE-RADIUS=500;X-TITLE=21000 SW Eagle Point Road:geo:-123.31461,45.17127
END:VEVENT
BEGIN:VEVENT
DTSTART;TZID=America/Los_Angeles:20190309T180000
DTEND;TZID=America/Los_Angeles:20190309T210000
DTSTAMP:20260424T184048
CREATED:20190819T172950Z
LAST-MODIFIED:20200305T055147Z
UID:10000119-1552154400-1552165200@cdtvineyard.com
SUMMARY:5th Annual CdT Winemaker Dinner
DESCRIPTION:Join us for a night dedicated to everything at the heart of our winery; Community\, great food and wine & love. We are partnering up with Jody Kropf\, the executive chef\, and proprietor of Red Hills Market and Red Hills Kitchen at the Atticus\, to create an imaginative menu paired with our favorite Coeur de Terre wines. Throughout the night there will be poetry readings from our owners’\, Scott and Lisa\, favorite collections. This intimate dinner has limited seating\, so please purchase tickets by March 1st. We hope you can join us for this special event.\nTickets: $120 per person | Club: $95 per person Please call us at 503-883-4111 or email event@cdtvineyard.com to secure your seat.
URL:https://cdtvineyard.com/event/5th-annual-cdt-winemaker-dinner/
LOCATION:Coeur De Terre Vineyard\, 21000 SW Eagle Point Rd\, McMinnville\, OR 97128\, USA\, 21000 SW Eagle Point Road\, McMinnville\, OR\, 97128\, United States
CATEGORIES:Events
GEO:45.17127;-123.31461
X-APPLE-STRUCTURED-LOCATION;VALUE=URI;X-ADDRESS=Coeur De Terre Vineyard 21000 SW Eagle Point Rd McMinnville OR 97128 USA 21000 SW Eagle Point Road McMinnville OR 97128 United States;X-APPLE-RADIUS=500;X-TITLE=21000 SW Eagle Point Road:geo:-123.31461,45.17127
END:VEVENT
BEGIN:VEVENT
DTSTART;TZID=America/Los_Angeles:20190209T180000
DTEND;TZID=America/Los_Angeles:20190209T210000
DTSTAMP:20260424T184048
CREATED:20190819T172950Z
LAST-MODIFIED:20200305T055146Z
UID:10000117-1549735200-1549746000@cdtvineyard.com
SUMMARY:**ALERT CANCELED DUE TO WEATHER** The Splendor of Love: Annual Valentine's Day Dinner
DESCRIPTION:Join us for a night dedicated to everything at the heart of our winery; Community\, great food and wine & love. We are partnering up with Jody Kropf\, the executive chef\, and proprietor of Red Hills Market and Red Hills Kitchen at the Atticus\, to create an imaginative menu paired with our favorite Coeur de Terre wines. Throughout the night there will be poetry readings from our owners’\, Scott and Lisa\, favorite collections. This intimate dinner has limited seating\, so please purchase tickets by Feb. 1. We hope you can join us for this special event.\nTickets: $120 per person | Club: $95 per person\nPlease call us at 503-883-4111 or email event@cdtvineyard.com to secure your seat.
URL:https://cdtvineyard.com/event/alert-canceled-due-to-weather-the-splendor-of-love-annual-valentines-day-dinner/
LOCATION:Coeur De Terre Vineyard\, 21000 SW Eagle Point Rd\, McMinnville\, OR 97128\, USA\, 21000 SW Eagle Point Road\, McMinnville\, OR\, 97128\, United States
CATEGORIES:Events
GEO:45.17127;-123.31461
X-APPLE-STRUCTURED-LOCATION;VALUE=URI;X-ADDRESS=Coeur De Terre Vineyard 21000 SW Eagle Point Rd McMinnville OR 97128 USA 21000 SW Eagle Point Road McMinnville OR 97128 United States;X-APPLE-RADIUS=500;X-TITLE=21000 SW Eagle Point Road:geo:-123.31461,45.17127
END:VEVENT
BEGIN:VEVENT
DTSTART;VALUE=DATE:20181123
DTEND;VALUE=DATE:20181126
DTSTAMP:20260424T184048
CREATED:20190819T172950Z
LAST-MODIFIED:20200305T055143Z
UID:10000113-1542931200-1543190399@cdtvineyard.com
SUMMARY:Thanksgiving Weekend Open House
DESCRIPTION:Continue the Thanksgiving celebration with your family and friends at our three-day Thanksgiving Weekend open house. Each day we’ll feature our favorite Coeur de Terre wines—including a library Pinot noir from our private cellar—while you enjoy an assortment of local cheeses and bread. The tasting costs $25 per person and is complimentary for our club members.\nEmail event@cdtvineyard.com or call 503-883-4111 to RSVP for this event.
URL:https://cdtvineyard.com/event/thanksgiving-weekend-open-house/
LOCATION:Coeur De Terre Vineyard\, 21000 SW Eagle Point Rd\, McMinnville\, OR 97128\, USA\, 21000 SW Eagle Point Road\, McMinnville\, OR\, 97128\, United States
CATEGORIES:Events
GEO:45.17127;-123.31461
X-APPLE-STRUCTURED-LOCATION;VALUE=URI;X-ADDRESS=Coeur De Terre Vineyard 21000 SW Eagle Point Rd McMinnville OR 97128 USA 21000 SW Eagle Point Road McMinnville OR 97128 United States;X-APPLE-RADIUS=500;X-TITLE=21000 SW Eagle Point Road:geo:-123.31461,45.17127
END:VEVENT
BEGIN:VEVENT
DTSTART;VALUE=DATE:20181117
DTEND;VALUE=DATE:20181118
DTSTAMP:20260424T184048
CREATED:20181024T050725Z
LAST-MODIFIED:20200305T055143Z
UID:10000112-1542412800-1542499199@cdtvineyard.com
SUMMARY:Pre-Thanksgiving Food & Wine Pairing Experience
DESCRIPTION:Take a journey of Northwest food and wine with Coeur de Terre winemaker Scott Neal and Direct Sales Manager Jacques Rendu on Saturday\, November 17th at 11 am as they delve into what makes a good wine and food pairing. We always love an excuse to pair our wines with creative\, local culinary innovations and are thrilled to be partnering with Chef Martin Bleck of Subterra for this intimate guided tasting. This experience has limited seating\, so make sure to RSVP by Nov. 12 to secure a seat. Prices per ticket are $40 for general seating and $20 for our club members.\nPlease email event@cdtvineyard.com or call 503-883-4111 to RSVP for the event.
URL:https://cdtvineyard.com/event/pre-thanksgiving-event/
LOCATION:Coeur De Terre Vineyard\, 21000 SW Eagle Point Rd\, McMinnville\, OR 97128\, USA\, 21000 SW Eagle Point Road\, McMinnville\, OR\, 97128\, United States
CATEGORIES:Events
GEO:45.17127;-123.31461
X-APPLE-STRUCTURED-LOCATION;VALUE=URI;X-ADDRESS=Coeur De Terre Vineyard 21000 SW Eagle Point Rd McMinnville OR 97128 USA 21000 SW Eagle Point Road McMinnville OR 97128 United States;X-APPLE-RADIUS=500;X-TITLE=21000 SW Eagle Point Road:geo:-123.31461,45.17127
END:VEVENT
END:VCALENDAR