BEGIN:VCALENDAR
VERSION:2.0
PRODID:-//Coeur de Terre Vineyard - ECPv6.15.17.1//NONSGML v1.0//EN
CALSCALE:GREGORIAN
METHOD:PUBLISH
X-WR-CALNAME:Coeur de Terre Vineyard
X-ORIGINAL-URL:https://cdtvineyard.com
X-WR-CALDESC:Events for Coeur de Terre Vineyard
REFRESH-INTERVAL;VALUE=DURATION:PT1H
X-Robots-Tag:noindex
X-PUBLISHED-TTL:PT1H
BEGIN:VTIMEZONE
TZID:America/Los_Angeles
BEGIN:DAYLIGHT
TZOFFSETFROM:-0800
TZOFFSETTO:-0700
TZNAME:PDT
DTSTART:20190310T100000
END:DAYLIGHT
BEGIN:STANDARD
TZOFFSETFROM:-0700
TZOFFSETTO:-0800
TZNAME:PST
DTSTART:20191103T090000
END:STANDARD
BEGIN:DAYLIGHT
TZOFFSETFROM:-0800
TZOFFSETTO:-0700
TZNAME:PDT
DTSTART:20200308T100000
END:DAYLIGHT
BEGIN:STANDARD
TZOFFSETFROM:-0700
TZOFFSETTO:-0800
TZNAME:PST
DTSTART:20201101T090000
END:STANDARD
BEGIN:DAYLIGHT
TZOFFSETFROM:-0800
TZOFFSETTO:-0700
TZNAME:PDT
DTSTART:20210314T100000
END:DAYLIGHT
BEGIN:STANDARD
TZOFFSETFROM:-0700
TZOFFSETTO:-0800
TZNAME:PST
DTSTART:20211107T090000
END:STANDARD
END:VTIMEZONE
BEGIN:VEVENT
DTSTART;TZID=America/Los_Angeles:20200313T160000
DTEND;TZID=America/Los_Angeles:20200313T160000
DTSTAMP:20260420T110736
CREATED:20200313T032921Z
LAST-MODIFIED:20200410T034720Z
UID:10000146-1584115200-1584115200@cdtvineyard.com
SUMMARY:Coeur de Terre at Savor Cannon Beach Wine & Culinary Festival
DESCRIPTION:Coeur de Terre is participating to Savor Cannon Beach Wine & Culinary 4-day Festival this year.  If in town\, make sure to stop by.   Starting Friday at 2pm\, you’ll find us pouring a selection of past and new vintages of Renelle’s Block Reserve Pinot Noir  at the Winemakers Premium Tasting (Tolovana Inn location).   Make sure to stop by our table!
URL:https://cdtvineyard.com/event/coeur-de-terre-at-savor-cannon-beach-wine-culinary-festival/
LOCATION:Tolovana Inn Conference Center\, 3400 S Hemlock St 2nd floor\, Tolovana Park\, OR 97145\, USA\, 1811 S Hemlock St\, United States
CATEGORIES:Events
ATTACH;FMTTYPE=image/jpeg:https://cdtvineyard.com/wp-content/uploads/2020/03/cannon-beach.jpg
GEO:45.883056;-123.962343
X-APPLE-STRUCTURED-LOCATION;VALUE=URI;X-ADDRESS=Tolovana Inn Conference Center 3400 S Hemlock St 2nd floor Tolovana Park OR 97145 USA 1811 S Hemlock St United States;X-APPLE-RADIUS=500;X-TITLE=1811 S Hemlock St:geo:-123.962343,45.883056
END:VEVENT
END:VCALENDAR